BEGIN:VCALENDAR
VERSION:2.0
PRODID:-//Kamisibaj Slovenije - ECPv6.15.20//NONSGML v1.0//EN
CALSCALE:GREGORIAN
METHOD:PUBLISH
X-ORIGINAL-URL:https://www.kamisibaj.si
X-WR-CALDESC:Dogodki za Kamisibaj Slovenije
REFRESH-INTERVAL;VALUE=DURATION:PT1H
X-Robots-Tag:noindex
X-PUBLISHED-TTL:PT1H
BEGIN:VTIMEZONE
TZID:Europe/Ljubljana
BEGIN:DAYLIGHT
TZOFFSETFROM:+0100
TZOFFSETTO:+0200
TZNAME:CEST
DTSTART:20150329T010000
END:DAYLIGHT
BEGIN:STANDARD
TZOFFSETFROM:+0200
TZOFFSETTO:+0100
TZNAME:CET
DTSTART:20151025T010000
END:STANDARD
BEGIN:DAYLIGHT
TZOFFSETFROM:+0100
TZOFFSETTO:+0200
TZNAME:CEST
DTSTART:20160327T010000
END:DAYLIGHT
BEGIN:STANDARD
TZOFFSETFROM:+0200
TZOFFSETTO:+0100
TZNAME:CET
DTSTART:20161030T010000
END:STANDARD
BEGIN:DAYLIGHT
TZOFFSETFROM:+0100
TZOFFSETTO:+0200
TZNAME:CEST
DTSTART:20170326T010000
END:DAYLIGHT
BEGIN:STANDARD
TZOFFSETFROM:+0200
TZOFFSETTO:+0100
TZNAME:CET
DTSTART:20171029T010000
END:STANDARD
END:VTIMEZONE
BEGIN:VEVENT
DTSTART;TZID=Europe/Ljubljana:20160821T200000
DTEND;TZID=Europe/Ljubljana:20160821T220000
DTSTAMP:20260419T165301
CREATED:20160803T075915Z
LAST-MODIFIED:20160818T091734Z
UID:330-1471809600-1471816800@www.kamisibaj.si
SUMMARY:4. nacionalni festival - revialni program
DESCRIPTION:Vid Sever: O hudobni gorski čarovnici ( Eigoru Futamata\, japonski kamišibaj)\nŠpela Hren Juhart in Jana Flego: Dve hudi mravljici (Branko Rudolf\, Marjan Vodopivec)\nIvana Kocutar: Pujs (po Roaldu Dahlu)\nRok Glavan: Mali šef (po Marli Frazee)\nSimona Nagode: O preobčutljivem pujsku (po Mateji Perpar)\nŠpela Pahor: Kraljična in pastir (istrska ljudska)\nJovan Tasić (Srbija): Klipići\nIgor Cvetko: Tartinijev vražji trilček\nPredstava lanskoletnega zmagovalca Festivala – Jure Engelsberger: Panter (Rainer Maria Rilke)\n\nPodelitev priznanj in „Zlatega kamišibaja Piran 2016“ in slavnostni zaključek Festivala
URL:https://www.kamisibaj.si/dogodek/revialni-program/
LOCATION:Piran – Židovski trg\, Židovski trg\, Piran\, Slovenija
END:VEVENT
BEGIN:VEVENT
DTSTART;TZID=Europe/Ljubljana:20160820T200000
DTEND;TZID=Europe/Ljubljana:20160820T220000
DTSTAMP:20260419T165301
CREATED:20160803T075711Z
LAST-MODIFIED:20160818T091746Z
UID:329-1471723200-1471730400@www.kamisibaj.si
SUMMARY:4. nacionalni festival -  tekmovalni program
DESCRIPTION:Tinca Oman: O muhi (likovna podoba: Jasna Vastl)\nMarjan Kunaver: Ali stric tuli (Saša Vegri)\nŠpela Voljč: Moje rdeče hlače\nAnita Garafolj: Polž (ljudska)\nŠpela Tomažič: Trije bratje kozlički (norveška ljudska)\nIrena Rajh Kunaver/Hans Christian Andersen: Cesarjeva nova oblačila (likovna podoba Marjan Kunaver)\nBoštjan Oder: Podaljšani dan (litovska ljudska)\nEnja May Grabrijan: V času Varune (avstralska ljudska)\nJure Engelsberger: Najmočnejši prizori iz Martina Krpana (Fran Levstik)\nMartina Ljubič: Rdeča raketa (Srečko Kosovel)\nAnja Sedej: Bit ali ne bit (po Zmelkoow)
URL:https://www.kamisibaj.si/dogodek/tekmovalni-program-2/
LOCATION:Piran – Židovski trg\, Židovski trg\, Piran\, Slovenija
END:VEVENT
BEGIN:VEVENT
DTSTART;TZID=Europe/Ljubljana:20160820T180000
DTEND;TZID=Europe/Ljubljana:20160820T190000
DTSTAMP:20260419T165301
CREATED:20160803T075333Z
LAST-MODIFIED:20160818T091758Z
UID:326-1471716000-1471719600@www.kamisibaj.si
SUMMARY:4. nacionalni festival - kamišibaj na kolesih
DESCRIPTION:Kamišibaj predstave po trgih in ulicah Pirana
URL:https://www.kamisibaj.si/dogodek/kamisibaj-na-kolesih-2/
LOCATION:Piran\, Piran\, Slovenija
END:VEVENT
BEGIN:VEVENT
DTSTART;TZID=Europe/Ljubljana:20160819T200000
DTEND;TZID=Europe/Ljubljana:20160819T220000
DTSTAMP:20260419T165301
CREATED:20160803T075557Z
LAST-MODIFIED:20160818T091811Z
UID:327-1471636800-1471644000@www.kamisibaj.si
SUMMARY:4. nacionalni festival  - tekmovalni program
DESCRIPTION:Jana Zorko: Kaj je najboljše? (afriška ljudska)\nPetra Korenjak: Rdeča kokoška (ruska ljudska)\nJerca Cvetko: Podkovana žaba (po slovenski ljudski)\nSilva Karim: Teta Meta (Anja Štefan)\nBreda Kočevar: Ne diši in ne smrdi (ljudska)\nMojca Perič: Frederik (po Leu Lioniju)\nJelena Sitar: Grdina pod kamnom (rezijanska ljudska)\nTatjana Grabrijan: Sonce\nJadranka Završnik: Sinko Marko (slovenska ljudska)\nNatalija Globevnik: Pismo drevesu\nFulvia Grbac: Nenadoma mrak …/Il buio all’ improviso…
URL:https://www.kamisibaj.si/dogodek/tekmovalni-program/
LOCATION:Piran – Židovski trg\, Židovski trg\, Piran\, Slovenija
END:VEVENT
BEGIN:VEVENT
DTSTART;TZID=Europe/Ljubljana:20160819T180000
DTEND;TZID=Europe/Ljubljana:20160819T190000
DTSTAMP:20260419T165301
CREATED:20160803T075153Z
LAST-MODIFIED:20160818T091824Z
UID:323-1471629600-1471633200@www.kamisibaj.si
SUMMARY:4. nacionalni festival - kamišibaj na kolesih
DESCRIPTION:Kamišibaj predstave po trgih in ulicah Pirana
URL:https://www.kamisibaj.si/dogodek/kamisibaj-na-kolesih/
LOCATION:Piran\, Piran\, Slovenija
END:VEVENT
BEGIN:VEVENT
DTSTART;TZID=Europe/Ljubljana:20160618T180000
DTEND;TZID=Europe/Ljubljana:20160618T190000
DTSTAMP:20260419T165301
CREATED:20160615T134903Z
LAST-MODIFIED:20160617T183121Z
UID:316-1466272800-1466276400@www.kamisibaj.si
SUMMARY:Biseri med platnicami
DESCRIPTION:Vsaka knjiga ima svojo zgodbo in zgodovino\, je bitje. So knjige\, ki smo jih srečali nekje na naši poti in so ostale z nami. Najdlje nas spremljajo tiste\, ki smo jih srečali v otroštvu. Prav otroške knjige so navadno polne zanimivih besed in slik\, zato smo poiskali tiste zgodbe\, ki so na nas\, v času našega otroštva\, pustile večjo sled in jih želimo predstaviti današnjim otrokom kot posebne dragocenosti. \nBiseri med platnicami je gledališka interaktivna predstava\, katere tema je Knjiga. Naš izkustveni labirint se bo tokrat spremenil v antikvariat\, po njem pa nas bo vodil antikvar. Na policah pa knjige ne bodo namenjene le listanju in branju\, ampak bodo oživele tudi na odrih Kamišibaj gledališča. Pripovedi\, ki jih bodo otroci spoznali na svojem potovanju skozi labirint starih zgodb\, bodo na koncu predstavljene na policah\, kjer jih bo mogoče vzeti tudi v roke. Namen projekta je otroku\, ki raste v digitalnem svetu\, približati knjigo\, njen vonj in fizično pojavo\, knjigo – kot medij\, ki hrani in oživlja zgodbo. \nPredstava je primerna za otroke od 4. leta dalje in traja 60 minut.
URL:https://www.kamisibaj.si/dogodek/biseri-med-platnicami/
LOCATION:Hiša otrok in umetnosti\, Komenskega ulica 9\, Ljubljana\, 1000\, Slovenija
END:VEVENT
BEGIN:VEVENT
DTSTART;TZID=Europe/Ljubljana:20160611T180000
DTEND;TZID=Europe/Ljubljana:20160611T190000
DTSTAMP:20260419T165301
CREATED:20160609T100912Z
LAST-MODIFIED:20160609T100912Z
UID:315-1465668000-1465671600@www.kamisibaj.si
SUMMARY:Biseri med platnicami - premiera
DESCRIPTION:Vsaka knjiga ima svojo zgodbo in zgodovino\, je bitje. So knjige\, ki smo jih srečali nekje na naši poti in so ostale z nami. Najdlje nas spremljajo tiste\, ki smo jih srečali v otroštvu. Prav otroške knjige so navadno polne zanimivih besed in slik\, zato smo poiskali tiste zgodbe\, ki so na nas\, v času našega otroštva\, pustile večjo sled in jih želimo predstaviti današnjim otrokom kot posebne dragocenosti. \nBiseri med platnicami je gledališka interaktivna predstava\, katere tema je Knjiga. Naš izkustveni labirint se bo tokrat spremenil v antikvariat\, po njem pa nas bo vodil antikvar. Na policah pa knjige ne bodo namenjene le listanju in branju\, ampak bodo oživele tudi na odrih Kamišibaj gledališča. Pripovedi\, ki jih bodo otroci spoznali na svojem potovanju skozi labirint starih zgodb\, bodo na koncu predstavljene na policah\, kjer jih bo mogoče vzeti tudi v roke. Namen projekta je otroku\, ki raste v digitalnem svetu\, približati knjigo\, njen vonj in fizično pojavo\, knjigo – kot medij\, ki hrani in oživlja zgodbo. \nPredstava je primerna za otroke od 4. leta dalje in traja 60 minut.
URL:https://www.kamisibaj.si/dogodek/biseri-med-platnicami-premiera/
LOCATION:Hiša otrok in umetnosti\, Komenskega ulica 9\, Ljubljana\, 1000\, Slovenija
END:VEVENT
BEGIN:VEVENT
DTSTART;TZID=Europe/Ljubljana:20160521T200000
DTEND;TZID=Europe/Ljubljana:20160521T210000
DTSTAMP:20260419T165301
CREATED:20160515T200847Z
LAST-MODIFIED:20160515T200847Z
UID:307-1463860800-1463864400@www.kamisibaj.si
SUMMARY:Zmaj Kamišibaj za odrasle
DESCRIPTION:sobota\, 21.5.\, ob 20.00\nH.C. Andersen: CESARJEVA NOVA OBLAČILA\nlikovna podoba: Marjan Kunaver\npriredba in izvedba: Irena Rajh \nljudska: SINKO MARKO\npriredba\, likovna podoba in izvedba: Jadranka Završnik \nJurij Vodovnik: O STRUPU\nO SKOMARSKEM MEDVEDU\npriredba\, likovna podoba in izvedba: Igor Cvetko \nFran Levstik: NAJMOČNEJŠI PRIZORI IZ MARTINA KRPANA\npriredba\, likovna podoba in izvedba: Jure Engelsberger \nza mladino in odrsale\, 60′\, brezplčano
URL:https://www.kamisibaj.si/dogodek/zmaj-kamisibaj-za-odrasle/
LOCATION:Hiša otrok in umetnosti\, Komenskega ulica 9\, Ljubljana\, 1000\, Slovenija
END:VEVENT
BEGIN:VEVENT
DTSTART;TZID=Europe/Ljubljana:20160521T180000
DTEND;TZID=Europe/Ljubljana:20160521T190000
DTSTAMP:20260419T165301
CREATED:20160515T200746Z
LAST-MODIFIED:20160515T200746Z
UID:306-1463853600-1463857200@www.kamisibaj.si
SUMMARY:Zmaj Kamišibaj - strokovni posvet
DESCRIPTION:sobota\, 21.5.\, ob 18.00\nStrokovni posvet \nKamišibaj kot priložnost za kreativno druženje generacij\nvodi: Jelena Sitar\, demonstracijski kamišibaj: Nives Aljančič in otroci: GOZDNA POŠAST\nza zainterisirano javnost\, 60′\, brezplačno
URL:https://www.kamisibaj.si/dogodek/zmaj-kamisibaj-strokovni-posvet/
LOCATION:Hiša otrok in umetnosti\, Komenskega ulica 9\, Ljubljana\, 1000\, Slovenija
END:VEVENT
BEGIN:VEVENT
DTSTART;TZID=Europe/Ljubljana:20160521T170000
DTEND;TZID=Europe/Ljubljana:20160521T180000
DTSTAMP:20260419T165301
CREATED:20160515T200628Z
LAST-MODIFIED:20160515T200652Z
UID:305-1463850000-1463853600@www.kamisibaj.si
SUMMARY:Zmaj Kamišibaj
DESCRIPTION:sobota\, 21.5\, ob 17.00\nRezijanska ljudska: GRDINA POD KAMNOM\npriredba\, likovna podoba\, izvedba: Jelena Sitar \nSaša Vegri: ALI STRIC TULI\npriredba\, likovna podoba in izvedba: Marjan Kunaver \nLjudska: PODKOVANA ŽABA\npriredba\, likovna podoba in izvedba: Jerca Cvetko \nAfriška ljudska: GEPARD\nlikovna podoba: Jasna Vastl\npriredba in izvedba: Tina Oman \nza otroke od 3. leta dalje\, 40′\, brezplačno
URL:https://www.kamisibaj.si/dogodek/zmaj-kamisibaj-3/
LOCATION:Hiša otrok in umetnosti\, Komenskega ulica 9\, Ljubljana\, 1000\, Slovenija
END:VEVENT
BEGIN:VEVENT
DTSTART;TZID=Europe/Ljubljana:20160520T093000
DTEND;TZID=Europe/Ljubljana:20160520T110000
DTSTAMP:20260419T165301
CREATED:20160515T200501Z
LAST-MODIFIED:20160515T200501Z
UID:304-1463736600-1463742000@www.kamisibaj.si
SUMMARY:Zmaj Kamišibaj
DESCRIPTION:petek\, 20.5.\, ob 9.30 in 10.30\nAngleška ljudska: RDEČA KOKOŠKA\npriredba\, likovna podoba in izvedba: Petra Korenjak \nH. Kraljič ČRNI MUC IN BELI MUC\nPriredba\, likovna podoba in izvedba: Klara Bajec \nLjudska: PODKOVANA ŽABA\npriredba\, likovna podoba in izvedba: Jerca Cvetko \nAlja Kump: PRAVLJICA O MALEM POLŽKU\navtorski kamišibaj Alje Kump \nLjudska: LONČEK KUHAJ\npriredba\, likovna podoba in izvedba: Damjana Janeš Kovačič \nAfriška ljudska: GEPARD\nlikovna podoba: Jasna Vastl\npriredba in izvedba: Tina Oman \nza otroke od 3. leta dalje\, 45′\, brezplačno
URL:https://www.kamisibaj.si/dogodek/zmaj-kamisibaj-2/
LOCATION:Hiša otrok in umetnosti\, Komenskega ulica 9\, Ljubljana\, 1000\, Slovenija
END:VEVENT
BEGIN:VEVENT
DTSTART;TZID=Europe/Ljubljana:20160519T093000
DTEND;TZID=Europe/Ljubljana:20160519T110000
DTSTAMP:20260419T165301
CREATED:20160515T200348Z
LAST-MODIFIED:20160515T200348Z
UID:303-1463650200-1463655600@www.kamisibaj.si
SUMMARY:Zmaj Kamišibaj
DESCRIPTION:četrtek\, 19.5.\, ob 9.30 in 10.30 \nSaša Vegri: ALI STRIC TULI\npriredba\, likovna podoba in izvedba: Marjan Kunaver \nLeo Lioni: FREDERIK\npriredba\, likovna podoba in izvedba: Mojca Perič \nPolonca Kovač: M ZGODBA\npriredba\, likovna podoba in izvedba: Tina Furlan \nH.C. Andersen: CESARJEVA NOVA OBLAČILA\nlikovna podoba: Marjan Kunaver\npriredba in izvedba: Irena Rajh \nLjudska: TRIJE TAMBURJI\nLikovna podoba: Katarina Batagelj\npriredba in izvedba: Rok Glavan \nza otroke od 3. leta dalje\, 35′\, brezplačno
URL:https://www.kamisibaj.si/dogodek/zmaj-kamisibaj/
LOCATION:Hiša otrok in umetnosti\, Komenskega ulica 9\, Ljubljana\, 1000\, Slovenija
END:VEVENT
BEGIN:VEVENT
DTSTART;TZID=Europe/Ljubljana:20160319T170000
DTEND;TZID=Europe/Ljubljana:20160319T190000
DTSTAMP:20260419T165301
CREATED:20160310T180055Z
LAST-MODIFIED:20160310T180055Z
UID:71-1458406800-1458414000@www.kamisibaj.si
SUMMARY:Ducat ljudskih in ponarodelih pravljic iz butaja
DESCRIPTION:Program:\nEnja Grabrijan: Volk in lisica (rezijanska)\, Jelena Sitar: Grdina pod kamnom (rezijanska)\, Igor Cvetko: Volk in sedem kozličkov (nemška)\, Tatjana Grabrijan: Šivilja in škarjice (po Ketteju)\, Jure Engelsberger: Najmočnejši prizori Martina Krpana (po Levstiku)\, Jerca Cvetko: Podkovana žaba (prekmurska) \, Irena Rajh Kunaver: O hudobni gorski čarovnici(japonska)\, Breda in Darko Kočevar: Vražja žganjica (belokranjska)\, Rok Glavan: Trije tamburji (peto pripovedovanje)\, Špela Pahor: Kovač in hudič (primorska)\, Katarina Klančnik Kocutar: Fižolček\, ogelček in slamica (beneška)\, Špela Hren Juhart: Ena po ljudsko  \n15. aprila 2013 smo  v Hiši otrok in umetnosti prav v okviru festivala Pravljice danes prvič povedali pet pravljic ob slikah v japonskem lesenem odru\, butaju in tako predstavili Sloveniji kamišibaj. Ta umetnostna  forma se je po zaslugi  gledališča Zapik  med slovenskimi ustvarjalci različnih profilov\, pa tudi med pedagogi\,  dobro prijela in  Kamišibaj  je v treh letih postal del slovenske  umetniške produkcije za otroke in odrasle. Količinska in kvalitetna rast  te umetniške zvrsti pri nas je botrovala ustanovitvi krovnega društva Kamišibaj Slovenija. Kamišibajkarji iz različnih slovenskih krajev bodo predstavili del svojega repertoraja\, ki se povezuje s konceptom festivala Pravljice danes: ob slikah v svojih malih lesenih odrih  bodo pripovedovali  ljudske in ponarodele zgodbe \, tiste domače in one od drugod.\nza otroke od 3. leta dalje\, brezplačno\, 120′
URL:https://www.kamisibaj.si/dogodek/ducat-ljudskih-in-ponarodelih-pravljic-iz-butaja/
LOCATION:Hiša otrok in umetnosti\, Komenskega ulica 9\, Ljubljana\, 1000\, Slovenija
END:VEVENT
BEGIN:VEVENT
DTSTART;TZID=Europe/Ljubljana:20160319T100000
DTEND;TZID=Europe/Ljubljana:20160319T110000
DTSTAMP:20260419T165301
CREATED:20160317T130950Z
LAST-MODIFIED:20160317T130950Z
UID:124-1458381600-1458385200@www.kamisibaj.si
SUMMARY:Predstave z delavnico
DESCRIPTION:Več kamišibaj predstav\, po katerih sledi delavnica. \nZa otroke od 4. leta dalje.
URL:https://www.kamisibaj.si/dogodek/predstave-z-delavnico/
LOCATION:Hiša sonca Logatec\, Notranjska 14\, Logatec\, 1370\, Slovenija
END:VEVENT
BEGIN:VEVENT
DTSTART;TZID=Europe/Ljubljana:20160317T170000
DTEND;TZID=Europe/Ljubljana:20160318T220000
DTSTAMP:20260419T165301
CREATED:20160312T181404Z
LAST-MODIFIED:20160312T181404Z
UID:109-1458234000-1458338400@www.kamisibaj.si
SUMMARY:Festival kamišibaj gledališča v Beli krajini
DESCRIPTION:Organizator: Knjižnica Črnomelj \nSoorganizatorji: KUD Zlata skledica Črnomelj\, Javni sklad za kulturne dejavnosti OI Črnomelj\, Kulturni center Semič\, Krajevna knjižnica Semič\, Belokranjski muzej Metlika-Spominska hiša Otona Župančiča Vinica\, OŠ Loka Črnomelj\, OŠ Vinica; \nKraj dogajanja:  Krajevna knjižnica Semič\, Spominska soba Otona Župančiča Vinica\, Cerkvica Sv. Duha v Črnomlju\, Knjižnica Črnomelj. \nČetrtek\, 17. marec 2016 (Semič) \nOb 17.00 v Krajevni knjižnici Semič: Pričetek festivala Kamišibaj predstave za semiške otroke\nOb 19.00 v Krajevni knjižnici Semič : Kamišibaj predstave za odrasle \nPetek\, 18. marec 2016 (Vinica\, Črnomelj) \nOb 10.00 v Spominski hiši Otona Župančiča na Vinici: Kamišibaj predstave za učence 1. triletja OŠ Vinica ter za varovance VDC Vinica\nOb 17.00 v Cerkvici Sv. Duha v Črnomlju: Kamišibaj za črnomaljske otroke\nOb 20.00 v Knjižnici Črnomelj: Zaključek festivala: Kamišibaj večer za odrasle \nV programu bodo sodelovali kamišibajkarji  iz Bele krajine in mojstri kamišibaja  iz cele Slovenije: Ljubljane\,  Kranja\, Maribora\, Logatca in Novega mesta. \nPredvideni PROGRAM: \nČetrtek\, 17. 3.  \nKulturni center Semič – Krajevna knjižnica Semič \n17.00 Kamišibaj predstave za semiške otroke \nUvod in otvoritev festivala \n1. Otroci iz Podružnične šole Griblje (OŠ Loka Črnomelj)\n2. Daj\, Zmaj (Jožica Žunič –Črnomelj)\n3. Čudežno mazilo (Jadranka Završnik – Kranj)\n4. Miška in veter (Breda in Darko Kočevar)\n5. Sonce (Tatjana Grabrijan – Novo mesto)\n6. Mačji bluz (Jadranka Završnik – Kranj\n7. Gusarska (Rok Glavan – Ljubljana) \n19.00 Kamišibaj večer za odrasle \n1. Dobro drevo ( Natalija Herlec –  Kranj)\n2. Volk in lisica (Enja Grabrijan – Krka na Dolenjskem)\n3. Turjaška Rozamunda (Jadranka Završnik – Kranj)\n4. Vražja žganica (Breda in Darko Kočevar – Črnomelj)\n5. Kako so nastale gosli (Tatjana Grabrijan – Novo mesto)\n6. Sin Marko (Jadranka Završnik – Kranj)\n7. Gospod Libar (Rok Glavan – Ljubljana) \nPetek\, 18. 3.     \nSpominska soba Otona Župančiča Vinica \n10.00 Kamišibaj predstave za učence 4. in 5. razreda OŠ Vinica in  \nvarovance VDC Vinica \n1. Otroci iz Podružnične šole Griblje (OŠ Loka Črnomelj)\n2. Želje belokranjskega dečka (Anita Matkovič – Črnomelj)\n3. Daj\, zmaj (Jožica Žunič – Črnomelj)\n4. Mehurčki in druge pesmi (Breda in Darko Kočevar – Črnomelj)\n5. Podkovana Žaba (Jerca Cvetko – Ljubljana)\n6. Razumem karkoli (Igor Cvetko – Ljubljana)\n7. Brivec\, frizer pediker (Tatjana Grabrijan – Novo mesto)\n8. Volk in sedem kozličkov (Igor Cvetko – Ljubljana) \nCerkev Sv. Duha Črnomelj \n17.00 Kamišibaj predstave za črnomaljske otroke \n1. Kako so nastale gosli (Tatjana Grabrijan  – Novo mesto)\n2. Prijatelji v deževnem dnevu (Igor Cvetko – Ljubljana)\n3. Kakor napravi stari je zmaraj prav (Špela Juhart Hren – Maribor)\n4. Požrešni pujsek Jo (Katarina Klančnik Kocutar – Maribor)\n5. O preobčutljivem pujsku (Simona Nagode –Logatec)\n6. Murenček gre na morje (Jure Engelsberger in Jerca Cvetko – Ljubljana)\n7. Gospod in hruška (Simona Kavčič – Logatec)\n8. O miški\, ki si je želela… (Irena Rajh Kunaver – Ljubljana) \nKnjižnica Črnomelj \n20.00 Kamišibaj večer za odrasle \n1. Kje je sonce (Tatjana Grabrijan  –  Novo mesto)\n2. O skomarskem medvedu (Igor Cvetko – Ljubljana)\n3. V času Varune (Enja Grabrijan – Krka na Dolenjskem)\n4. Metulj (Katarina Klančnik Kocutar – Maribor)\n5. O hudobni gorski čarovnici (Irena Rajh Kunaver – Ljubljana)\n6. Romanca o žabah (Špela Juhart – Maribor)\n7. Otrok s sončnico (Breda in Darko Kočevar – Črnomelj)\n8. Igra Senc (Jerca Cvetko – Ljubljana)\n9. Deset zelenih flaškic (Jelena Sitar Ljubljana)
URL:https://www.kamisibaj.si/dogodek/festival-kamisibaj-gledalisca-v-beli-krajini/
LOCATION:Črnomelj – več prizorišč\, Črnomelj\, 8340\, Slovenija
END:VEVENT
END:VCALENDAR