BEGIN:VCALENDAR
VERSION:2.0
PRODID:-//Kamisibaj Slovenije - ECPv6.15.20//NONSGML v1.0//EN
CALSCALE:GREGORIAN
METHOD:PUBLISH
X-ORIGINAL-URL:https://www.kamisibaj.si
X-WR-CALDESC:Dogodki za Kamisibaj Slovenije
REFRESH-INTERVAL;VALUE=DURATION:PT1H
X-Robots-Tag:noindex
X-PUBLISHED-TTL:PT1H
BEGIN:VTIMEZONE
TZID:Europe/Ljubljana
BEGIN:DAYLIGHT
TZOFFSETFROM:+0100
TZOFFSETTO:+0200
TZNAME:CEST
DTSTART:20200329T010000
END:DAYLIGHT
BEGIN:STANDARD
TZOFFSETFROM:+0200
TZOFFSETTO:+0100
TZNAME:CET
DTSTART:20201025T010000
END:STANDARD
BEGIN:DAYLIGHT
TZOFFSETFROM:+0100
TZOFFSETTO:+0200
TZNAME:CEST
DTSTART:20210328T010000
END:DAYLIGHT
BEGIN:STANDARD
TZOFFSETFROM:+0200
TZOFFSETTO:+0100
TZNAME:CET
DTSTART:20211031T010000
END:STANDARD
BEGIN:DAYLIGHT
TZOFFSETFROM:+0100
TZOFFSETTO:+0200
TZNAME:CEST
DTSTART:20220327T010000
END:DAYLIGHT
BEGIN:STANDARD
TZOFFSETFROM:+0200
TZOFFSETTO:+0100
TZNAME:CET
DTSTART:20221030T010000
END:STANDARD
END:VTIMEZONE
BEGIN:VEVENT
DTSTART;TZID=Europe/Ljubljana:20210702T183000
DTEND;TZID=Europe/Ljubljana:20210828T183000
DTSTAMP:20260419T151400
CREATED:20210701T213944Z
LAST-MODIFIED:20210701T213944Z
UID:2054-1625250600-1630175400@www.kamisibaj.si
SUMMARY:Kamišibaj gledališče v Jasni
DESCRIPTION:Kaj? Kamišibaj. Kje? V Jasni ob jezeru. Kdaj? \n1.\npetek\, 2. julija 2021 ob 18.30\nO treh zajčkih in druge zgodbe\nizvajata Jerca Cvetko in Jure Engelsberger\n2.\npetek\, 9. julija 2021 ob 18.30\nZgodbe iz antikvarjevega kovčka\nizvajata Oskar in Rok Glavan\n3.\nsobota\, 17. julija 2021 ob 18.30\nMernik belokranjskih pravljic\nizvajata Breda in Darko Kočevar\n4.\nsobota\, 24. julija 2021 ob 18.30\nZvrhan koš dolenjskih bajk\nizvajata Tatjana in Enja Grabrijan\n5.\nsobota\, 31. julija 2021 ob 18.30\nZ lačnim kitom\, pogumnim Jakom in Dilemo v pravljični svet kamišibaja\nizvajata Vanja Kretič in Boštjan Oder\n6.\nsobota\, 7. avgusta 2021 ob 18. 30\nO treh kozicah in druge ljudske pravljice\nizvajata Jelena Sitar in Igor Cvetko\n7.\nsobota 14. avgusta 2021 ob 18.30\nKraške in druge pripovedke\nizvajata Vesna Marion in Vlasta Markovčič\n8.\nsobota 21. avgusta 2021 ob 18.30\nPo svetu s kamišibajem\nizvaja Irena Rajh\n9.\nsobota\, 28. avgusta 2021 ob 18.30\nNotranjske in druge pravljice\nizvaja Simona Kavčič.
URL:https://www.kamisibaj.si/dogodek/kamisibaj-gledalisce-v-jasni/
END:VEVENT
END:VCALENDAR