BEGIN:VCALENDAR
VERSION:2.0
PRODID:-//Kamisibaj Slovenije - ECPv6.15.20//NONSGML v1.0//EN
CALSCALE:GREGORIAN
METHOD:PUBLISH
X-ORIGINAL-URL:https://www.kamisibaj.si
X-WR-CALDESC:Dogodki za Kamisibaj Slovenije
REFRESH-INTERVAL;VALUE=DURATION:PT1H
X-Robots-Tag:noindex
X-PUBLISHED-TTL:PT1H
BEGIN:VTIMEZONE
TZID:Europe/Ljubljana
BEGIN:DAYLIGHT
TZOFFSETFROM:+0100
TZOFFSETTO:+0200
TZNAME:CEST
DTSTART:20180325T010000
END:DAYLIGHT
BEGIN:STANDARD
TZOFFSETFROM:+0200
TZOFFSETTO:+0100
TZNAME:CET
DTSTART:20181028T010000
END:STANDARD
BEGIN:DAYLIGHT
TZOFFSETFROM:+0100
TZOFFSETTO:+0200
TZNAME:CEST
DTSTART:20190331T010000
END:DAYLIGHT
BEGIN:STANDARD
TZOFFSETFROM:+0200
TZOFFSETTO:+0100
TZNAME:CET
DTSTART:20191027T010000
END:STANDARD
BEGIN:DAYLIGHT
TZOFFSETFROM:+0100
TZOFFSETTO:+0200
TZNAME:CEST
DTSTART:20200329T010000
END:DAYLIGHT
BEGIN:STANDARD
TZOFFSETFROM:+0200
TZOFFSETTO:+0100
TZNAME:CET
DTSTART:20201025T010000
END:STANDARD
END:VTIMEZONE
BEGIN:VEVENT
DTSTART;TZID=Europe/Ljubljana:20190516T080000
DTEND;TZID=Europe/Ljubljana:20190518T180000
DTSTAMP:20260420T105734
CREATED:20190512T172558Z
LAST-MODIFIED:20190512T172558Z
UID:1597-1557993600-1558202400@www.kamisibaj.si
SUMMARY:Zmaj Kamišibaj - Ljubljana
DESCRIPTION:Program 6. festivala Zmaj kamišibaj ponuja najnovejšo produkcijo ljubljanskih kamišibaj ustvarjalcev v štirih programskih sklopih. Dva dopoldneva namenjamo otroški publiki iz ljubljanskih vrtcev in šol\, sobotni popoldanski program prinaša novosti otrokom in staršem v kontekstu družinskega gledališča in četrtek zvečer so na sporedu najnovejše zgodbe\, namenjene odrasli publiki. \nTudi letos bomo\, ob že znanih ustvarjalcih umetnosti kamišibaja\, gostili zgodbe v sliki in besedi\, ki so nastale v okviru seminarja kamišibaj gledališča\, ki je pod vodstvom Društva Zapik in Ateljeja Slikovedke\, potekal v Hiši otrok in umetnosti. Za nekatere od izvajalcev v tem programskem sklopu predstavlja njihov kamišibaj prvo aktivno srečanje s to umetniško obliko. \nV spremljevalnem programu festivala pripravljamo začetno delavnico kamišibaj gledališča v okviru festivala Zlata paličica. \nProgram najdete tukaj! Med 16. in 18. majem. \nVse prireditve so brezplačne!
URL:https://www.kamisibaj.si/dogodek/zmaj-kamisibaj-ljubljana/
LOCATION:Hiša otrok in umetnosti\, Komenskega ulica 9\, Ljubljana\, 1000\, Slovenija
END:VEVENT
END:VCALENDAR