BEGIN:VCALENDAR
VERSION:2.0
PRODID:-//Kamisibaj Slovenije - ECPv6.15.20//NONSGML v1.0//EN
CALSCALE:GREGORIAN
METHOD:PUBLISH
X-ORIGINAL-URL:https://www.kamisibaj.si
X-WR-CALDESC:Dogodki za Kamisibaj Slovenije
REFRESH-INTERVAL;VALUE=DURATION:PT1H
X-Robots-Tag:noindex
X-PUBLISHED-TTL:PT1H
BEGIN:VTIMEZONE
TZID:Europe/Ljubljana
BEGIN:DAYLIGHT
TZOFFSETFROM:+0100
TZOFFSETTO:+0200
TZNAME:CEST
DTSTART:20160327T010000
END:DAYLIGHT
BEGIN:STANDARD
TZOFFSETFROM:+0200
TZOFFSETTO:+0100
TZNAME:CET
DTSTART:20161030T010000
END:STANDARD
BEGIN:DAYLIGHT
TZOFFSETFROM:+0100
TZOFFSETTO:+0200
TZNAME:CEST
DTSTART:20170326T010000
END:DAYLIGHT
BEGIN:STANDARD
TZOFFSETFROM:+0200
TZOFFSETTO:+0100
TZNAME:CET
DTSTART:20171029T010000
END:STANDARD
BEGIN:DAYLIGHT
TZOFFSETFROM:+0100
TZOFFSETTO:+0200
TZNAME:CEST
DTSTART:20180325T010000
END:DAYLIGHT
BEGIN:STANDARD
TZOFFSETFROM:+0200
TZOFFSETTO:+0100
TZNAME:CET
DTSTART:20181028T010000
END:STANDARD
END:VTIMEZONE
BEGIN:VEVENT
DTSTART;TZID=Europe/Ljubljana:20171118T170000
DTEND;TZID=Europe/Ljubljana:20171118T180000
DTSTAMP:20260419T205112
CREATED:20170926T100314Z
LAST-MODIFIED:20170926T100314Z
UID:432-1511024400-1511028000@www.kamisibaj.si
SUMMARY:Fantek na oblaku in druge zgodbe
DESCRIPTION:
URL:https://www.kamisibaj.si/dogodek/fantek-na-oblaku-in-druge-zgodbe/
LOCATION:Hiša otrok in umetnosti\, Komenskega ulica 9\, Ljubljana\, 1000\, Slovenija
ORGANIZER;CN="Hi%C5%A1a otrok in umetnosti":MAILTO:info@hisaotrok.si
END:VEVENT
END:VCALENDAR