BEGIN:VCALENDAR
VERSION:2.0
PRODID:-//Kamisibaj Slovenije - ECPv6.15.20//NONSGML v1.0//EN
CALSCALE:GREGORIAN
METHOD:PUBLISH
X-ORIGINAL-URL:https://www.kamisibaj.si
X-WR-CALDESC:Dogodki za Kamisibaj Slovenije
REFRESH-INTERVAL;VALUE=DURATION:PT1H
X-Robots-Tag:noindex
X-PUBLISHED-TTL:PT1H
BEGIN:VTIMEZONE
TZID:Europe/Ljubljana
BEGIN:DAYLIGHT
TZOFFSETFROM:+0100
TZOFFSETTO:+0200
TZNAME:CEST
DTSTART:20160327T010000
END:DAYLIGHT
BEGIN:STANDARD
TZOFFSETFROM:+0200
TZOFFSETTO:+0100
TZNAME:CET
DTSTART:20161030T010000
END:STANDARD
BEGIN:DAYLIGHT
TZOFFSETFROM:+0100
TZOFFSETTO:+0200
TZNAME:CEST
DTSTART:20170326T010000
END:DAYLIGHT
BEGIN:STANDARD
TZOFFSETFROM:+0200
TZOFFSETTO:+0100
TZNAME:CET
DTSTART:20171029T010000
END:STANDARD
BEGIN:DAYLIGHT
TZOFFSETFROM:+0100
TZOFFSETTO:+0200
TZNAME:CEST
DTSTART:20180325T010000
END:DAYLIGHT
BEGIN:STANDARD
TZOFFSETFROM:+0200
TZOFFSETTO:+0100
TZNAME:CET
DTSTART:20181028T010000
END:STANDARD
END:VTIMEZONE
BEGIN:VEVENT
DTSTART;TZID=Europe/Ljubljana:20171028T170000
DTEND;TZID=Europe/Ljubljana:20171028T180000
DTSTAMP:20260419T221941
CREATED:20170926T100107Z
LAST-MODIFIED:20171014T143420Z
UID:428-1509210000-1509213600@www.kamisibaj.si
SUMMARY:Tri kozice in druge zgodbe
DESCRIPTION:Prvo srečanje kamišibajkarjev v HiIši otrok in umetnosti v novi sezoni.
URL:https://www.kamisibaj.si/dogodek/tri-kozice-in-druge-zgodbe/
LOCATION:Hiša otrok in umetnosti\, Komenskega ulica 9\, Ljubljana\, 1000\, Slovenija
ORGANIZER;CN="Hi%C5%A1a otrok in umetnosti":MAILTO:info@hisaotrok.si
END:VEVENT
BEGIN:VEVENT
DTSTART;TZID=Europe/Ljubljana:20171028T200000
DTEND;TZID=Europe/Ljubljana:20171028T210000
DTSTAMP:20260419T221941
CREATED:20170926T100217Z
LAST-MODIFIED:20171014T143429Z
UID:430-1509220800-1509224400@www.kamisibaj.si
SUMMARY:Daj\, pomisli! in druge zgodbe
DESCRIPTION:Prvo srečanje kamišibajkarjev v novi sezoni s predstavami za odrasle.
URL:https://www.kamisibaj.si/dogodek/daj-pomisli-in-druge-zgodbe/
LOCATION:Hiša otrok in umetnosti\, Komenskega ulica 9\, Ljubljana\, 1000\, Slovenija
ORGANIZER;CN="Hi%C5%A1a otrok in umetnosti":MAILTO:info@hisaotrok.si
END:VEVENT
END:VCALENDAR