BEGIN:VCALENDAR
VERSION:2.0
PRODID:-//Kamisibaj Slovenije - ECPv6.15.20//NONSGML v1.0//EN
CALSCALE:GREGORIAN
METHOD:PUBLISH
X-ORIGINAL-URL:https://www.kamisibaj.si
X-WR-CALDESC:Dogodki za Kamisibaj Slovenije
REFRESH-INTERVAL;VALUE=DURATION:PT1H
X-Robots-Tag:noindex
X-PUBLISHED-TTL:PT1H
BEGIN:VTIMEZONE
TZID:Europe/Ljubljana
BEGIN:DAYLIGHT
TZOFFSETFROM:+0100
TZOFFSETTO:+0200
TZNAME:CEST
DTSTART:20160327T010000
END:DAYLIGHT
BEGIN:STANDARD
TZOFFSETFROM:+0200
TZOFFSETTO:+0100
TZNAME:CET
DTSTART:20161030T010000
END:STANDARD
BEGIN:DAYLIGHT
TZOFFSETFROM:+0100
TZOFFSETTO:+0200
TZNAME:CEST
DTSTART:20170326T010000
END:DAYLIGHT
BEGIN:STANDARD
TZOFFSETFROM:+0200
TZOFFSETTO:+0100
TZNAME:CET
DTSTART:20171029T010000
END:STANDARD
BEGIN:DAYLIGHT
TZOFFSETFROM:+0100
TZOFFSETTO:+0200
TZNAME:CEST
DTSTART:20180325T010000
END:DAYLIGHT
BEGIN:STANDARD
TZOFFSETFROM:+0200
TZOFFSETTO:+0100
TZNAME:CET
DTSTART:20181028T010000
END:STANDARD
END:VTIMEZONE
BEGIN:VEVENT
DTSTART;TZID=Europe/Ljubljana:20170518T093000
DTEND;TZID=Europe/Ljubljana:20170519T190000
DTSTAMP:20260420T054805
CREATED:20170513T095109Z
LAST-MODIFIED:20170513T095109Z
UID:390-1495099800-1495220400@www.kamisibaj.si
SUMMARY:Festival Zmaj kamišibaj
DESCRIPTION:V Hiši otrok in umetnosti se letos ob kamišibaju\, japonski obliki gledališča v sliki in besedi na majhnem lesenem odru\, zbiramo že petič. Prvič smo kamišibaj predstavili Sloveniji aprila 2013 v okviru festivala Pravljice danes prav v Hiši otrok in umetnosti. Pod vodstvom društva Zapik je gibanje kamišibaja v Hiširaslo naprej. L. 2014 smo organizirali prvi dvodnevni festival z dvanajstimi nastopi\, na drugem festivalu smo jih izvedli kar osemnajst. Program lanskega festivala s 25 nastopi pa je bil rezultat sistematičnega raziskovanja ustvarjalcev te umetniške forme v sezoni 2015/16. \nProgram 4. festivala Zmaj kamišibaj ponuja najnovejšo produkcijo ljubljanskih kamišibaj ustvarjalcev. Publiki bomo ponudili pet programskih sklopov. Dva dopoldneva namenjamo otroški publiki iz ljubljanskih vrtcev in šol\, petkovo popoldne prinaša novosti otrokom in staršem v kontekstu družinskega gledališča\, večer pa odrasli publiki. V soboto pa se Zmaj kamišibaj seli na Ljubljanski grad\, kjer bodo ves dan ljubljanski mojstri kamišibaja v okviru Grajskih dnevov pripovedovali grajske zgodbe in legende. Tudi letos bomo\, ob že znanih ustvarjalcih umetnosti kamišibaja\, gostili zgodbe v sliki in besedi\, ki so nastale v okviru seminarja kamišibaj gledališča\, ki je pod vodstvom Jelene Sitar\, Jerce Cvetko in Igorja Cvetka\, potekal v Hiši otrok in umetnosti. \nPodroben program festivala najdete tukaj.
URL:https://www.kamisibaj.si/dogodek/festival-zmaj-kamisibaj/
LOCATION:Hiša otrok in umetnosti\, Komenskega ulica 9\, Ljubljana\, 1000\, Slovenija
ATTACH;FMTTYPE=image/png:https://www.kamisibaj.si/wp-content/uploads/2017/05/zmaj.png
ORGANIZER;CN="Hi%C5%A1a otrok in umetnosti":MAILTO:info@hisaotrok.si
END:VEVENT
BEGIN:VEVENT
DTSTART;VALUE=DATE:20170520
DTEND;VALUE=DATE:20170521
DTSTAMP:20260420T054805
CREATED:20170513T100308Z
LAST-MODIFIED:20170513T100308Z
UID:393-1495238400-1495324799@www.kamisibaj.si
SUMMARY:Festival Zmaj kamišibaj na Ljubljanskem gradu
DESCRIPTION:V Hiši otrok in umetnosti se letos ob kamišibaju\, japonski obliki gledališča v sliki in besedi na majhnem lesenem odru\, zbiramo že petič. Prvič smo kamišibaj predstavili Sloveniji aprila 2013 v okviru festivala Pravljice danes prav v Hiši otrok in umetnosti. Pod vodstvom društva Zapik je gibanje kamišibaja v Hiširaslo naprej. L. 2014 smo organizirali prvi dvodnevni festival z dvanajstimi nastopi\, na drugem festivalu smo jih izvedli kar osemnajst. Program lanskega festivala s 25 nastopi pa je bil rezultat sistematičnega raziskovanja ustvarjalcev te umetniške forme v sezoni 2015/16. \nProgram 4. festivala Zmaj kamišibaj ponuja najnovejšo produkcijo ljubljanskih kamišibaj ustvarjalcev. Publiki bomo ponudili pet programskih sklopov. Dva dopoldneva namenjamo otroški publiki iz ljubljanskih vrtcev in šol\, petkovo popoldne prinaša novosti otrokom in staršem v kontekstu družinskega gledališča\, večer pa odrasli publiki. V soboto pa se Zmaj kamišibaj seli na Ljubljanski grad\, kjer bodo ves dan ljubljanski mojstri kamišibaja v okviru Grajskih dnevov pripovedovali grajske zgodbe in legende. Tudi letos bomo\, ob že znanih ustvarjalcih umetnosti kamišibaja\, gostili zgodbe v sliki in besedi\, ki so nastale v okviru seminarja kamišibaj gledališča\, ki je pod vodstvom Jelene Sitar\, Jerce Cvetko in Igorja Cvetka\, potekal v Hiši otrok in umetnosti. \nNa Ljubljanskem gradu vas pričakujemo s celodnevnim dogajanjem\, predstavami za otroke in odrasle ter kamišibaj delavnicami. \nPodroben program festivala najdete tukaj in tukaj.
URL:https://www.kamisibaj.si/dogodek/festival-zmaj-kamisibaj-na-ljubljanskem-gradu/
LOCATION:Ljubljanski grad\, Grajska planota 1\, Ljubljana\, 1000\, Slovenija
ATTACH;FMTTYPE=image/png:https://www.kamisibaj.si/wp-content/uploads/2017/05/zmaj.png
ORGANIZER;CN="Hi%C5%A1a otrok in umetnosti":MAILTO:info@hisaotrok.si
END:VEVENT
END:VCALENDAR