BEGIN:VCALENDAR
VERSION:2.0
PRODID:-//Kamisibaj Slovenije - ECPv6.15.20//NONSGML v1.0//EN
CALSCALE:GREGORIAN
METHOD:PUBLISH
X-ORIGINAL-URL:https://www.kamisibaj.si
X-WR-CALDESC:Dogodki za Kamisibaj Slovenije
REFRESH-INTERVAL;VALUE=DURATION:PT1H
X-Robots-Tag:noindex
X-PUBLISHED-TTL:PT1H
BEGIN:VTIMEZONE
TZID:Europe/Ljubljana
BEGIN:DAYLIGHT
TZOFFSETFROM:+0100
TZOFFSETTO:+0200
TZNAME:CEST
DTSTART:20160327T010000
END:DAYLIGHT
BEGIN:STANDARD
TZOFFSETFROM:+0200
TZOFFSETTO:+0100
TZNAME:CET
DTSTART:20161030T010000
END:STANDARD
BEGIN:DAYLIGHT
TZOFFSETFROM:+0100
TZOFFSETTO:+0200
TZNAME:CEST
DTSTART:20170326T010000
END:DAYLIGHT
BEGIN:STANDARD
TZOFFSETFROM:+0200
TZOFFSETTO:+0100
TZNAME:CET
DTSTART:20171029T010000
END:STANDARD
BEGIN:DAYLIGHT
TZOFFSETFROM:+0100
TZOFFSETTO:+0200
TZNAME:CEST
DTSTART:20180325T010000
END:DAYLIGHT
BEGIN:STANDARD
TZOFFSETFROM:+0200
TZOFFSETTO:+0100
TZNAME:CET
DTSTART:20181028T010000
END:STANDARD
END:VTIMEZONE
BEGIN:VEVENT
DTSTART;TZID=Europe/Ljubljana:20170316T100000
DTEND;TZID=Europe/Ljubljana:20170316T110000
DTSTAMP:20260420T090424
CREATED:20170307T210122Z
LAST-MODIFIED:20170310T131058Z
UID:369-1489658400-1489662000@www.kamisibaj.si
SUMMARY:3. festival Kamišibaj gledališča v Beli krajini
DESCRIPTION:Sonce – Tatjana Grabrijan\nMiška kaško kuhala – Jožica Žunič\nŠivilja in škarjice (D. Kette) – Tatjana Grabrijan\nGoldilocks and the Three Bears – Mihaela Filak\nBrivec\, frizer in pediker (Saša Vegri) – Tatjana Grabrijan\n\n  \nV telovadnici vrtca Čardak
URL:https://www.kamisibaj.si/dogodek/3-festival-kamisibaj-gledalisca-v-beli-krajini/
LOCATION:Črnomelj – več prizorišč\, Črnomelj\, 8340\, Slovenija
END:VEVENT
BEGIN:VEVENT
DTSTART;TZID=Europe/Ljubljana:20170316T170000
DTEND;TZID=Europe/Ljubljana:20170316T190000
DTSTAMP:20260420T090424
CREATED:20170307T210240Z
LAST-MODIFIED:20170310T131029Z
UID:371-1489683600-1489690800@www.kamisibaj.si
SUMMARY:3. festival Kamišibaj gledališča v Beli krajini
DESCRIPTION:Kamišibaj za otroke in odrasle ter odprtje festivala. \n\nZelenjava – Oskar Glavan\nSonce – Tatjana Grabrijan\nMali šef – Rok Glavan\nKako so nastale gosli – Tatjana Grabrijan\nKrava – Breda in Darko Kočevar\nGusarska – Rok Glavan\n\nV knjižnici Črnomelj.
URL:https://www.kamisibaj.si/dogodek/3-festival-kamisibaj-gledalisca-v-beli-krajini-2/
LOCATION:Črnomelj – več prizorišč\, Črnomelj\, 8340\, Slovenija
END:VEVENT
BEGIN:VEVENT
DTSTART;TZID=Europe/Ljubljana:20170317T110000
DTEND;TZID=Europe/Ljubljana:20170317T120000
DTSTAMP:20260420T090424
CREATED:20170307T210430Z
LAST-MODIFIED:20170310T131135Z
UID:373-1489748400-1489752000@www.kamisibaj.si
SUMMARY:3. festival Kamišibaj gledališča v Beli krajini
DESCRIPTION:O treh zajčkih\, 1. del – Jerca in Jure Cvetko\nO hudobni gorski čarovnici – Irena Rajh Kunaver\nO treh zajčkih\, 2. del – Jerca in Jure Cvetko\nPihni tukaj – Marjan Kunaver\n\nV varstveno delovnem centru Črnomelj.
URL:https://www.kamisibaj.si/dogodek/3-festival-kamisibaj-gledalisca-v-beli-krajini-3/
LOCATION:Črnomelj – več prizorišč\, Črnomelj\, 8340\, Slovenija
END:VEVENT
BEGIN:VEVENT
DTSTART;TZID=Europe/Ljubljana:20170317T160000
DTEND;TZID=Europe/Ljubljana:20170317T170000
DTSTAMP:20260420T090424
CREATED:20170307T210532Z
LAST-MODIFIED:20170310T131206Z
UID:375-1489766400-1489770000@www.kamisibaj.si
SUMMARY:3. festival Kamišibaj gledališča v Beli krajini
DESCRIPTION:Daj\, zmaj – Jožica Žunič\nMartin Krpan\, najmočnejši prizori – Jure Engelsberger\nCesarjeva nova oblačila – Irena Rajh Kunaver\nOkostnjakinja – Jerca Cvetko\nZakaj stric tuli – Marjan Kunaver\nMartin Krpan\, najmočnejši prizori\, 2. del – Jure Engelsberger\n\nV domu starejših občanov Črnomelj.
URL:https://www.kamisibaj.si/dogodek/3-festival-kamisibaj-gledalisca-v-beli-krajini-4/
LOCATION:Črnomelj – več prizorišč\, Črnomelj\, 8340\, Slovenija
END:VEVENT
BEGIN:VEVENT
DTSTART;TZID=Europe/Ljubljana:20170318T180000
DTEND;TZID=Europe/Ljubljana:20170318T200000
DTSTAMP:20260420T090424
CREATED:20170307T210652Z
LAST-MODIFIED:20170310T131251Z
UID:377-1489860000-1489867200@www.kamisibaj.si
SUMMARY:3. festival Kamišibaj gledališča v Beli krajini - zaključek
DESCRIPTION:Večer za odrasle in zaključek festivala. \n\nNovi kamišibaj – Enja Grabrijan\nGrdina pod kamnom – Jelena Sitar Cvetko\nKako so nastale gosli – Tatjana Grabrijan\nKrava – Breda in Darko Kočevar\nTrilogija o Tartiniju – Igor Cvetko\n\nV Muzejski zbirki Črnomelj.
URL:https://www.kamisibaj.si/dogodek/3-festival-kamisibaj-gledalisca-v-beli-krajini-zakljucek/
LOCATION:Črnomelj – več prizorišč\, Črnomelj\, 8340\, Slovenija
END:VEVENT
BEGIN:VEVENT
DTSTART;TZID=Europe/Ljubljana:20170329T163000
DTEND;TZID=Europe/Ljubljana:20170422T180000
DTSTAMP:20260420T090424
CREATED:20170314T083222Z
LAST-MODIFIED:20170314T083222Z
UID:385-1490805000-1492884000@www.kamisibaj.si
SUMMARY:Seminar kamišibaj gledališča
DESCRIPTION:Seminar Kamišibaj gledališča ponudi udeležencem osnovna znanja\, na osnovi katerih bodo lahko razvijali lasten pristop k tej umetnostni obliki kot ustvarjalci\, ali pa jih bodo uporabljali pri svojem pedagoškem delu. Seminar je kombinacija teorije in prakse. Vsebuje predavanja\, demonstracijske predstave\, prikaz različnih tipov kamišibaja in praktično delo udeležencev\, v katerem ti v ustvarjalnem procesu spoznajo vse faze nastajanja in pridejo do izvedbe lastne kamišibaj predstave. Seminar se zaključi s produkcijo novonastalih kamišibajev\, ki jih odigrajo seminaristi\, temu pa sledi celovita analiza njihovih predstav. V seminarju pridobljeno znanje in nastali lastni izdelki udeležencev predstavljajo po eni strani začetek njihovega kamišibaj repertoarja\, obenem pa tisto znanje\, s katerim bodo lahko začeli samostojno ustvarjati kamišibaj ali ga uporabiti pri svojem delu. \nSeminar smo razdelili na štiri srečanja po 5 šolskih ur z naslednjimi temami: \n-Predavanja\, demonstracije ter izbor zgodb za avtorske kamišibaje udeležencev\n-Delo na lastnih projektih (določitev žanra\, analiza zgodbe\, izbor ključnih dogodkov …)\n-Likovna zasnova predstave\, kadriranje\, montaža\n-Postavitev celovitega modela kamišibaj predstave.\n-Izvedba predstave kamišibaj gledališča: interpretacija besedila\, menjavanje prizorov /kdaj\, kje in kako/\, mesto in pomen slike v odru\, pomen montaže pri kamišibaju\, so-odnosi: izvajalec – risba – gledalec in pojem kyokana.\n-Zaključni nastop udeležencev in analiza prezentacij\n-Pogled naprej. \nSeminar izvajajo člani Gledališča Zapik in Ateljeja Slikovedke: doc. Jelena SItar\, mag. Igor Cvetko in Jerca Cvetko. \nDatumi izvedbe:\nsreda\, 29. marec 2017\nsreda\, 5.april 2017\nsreda\, 12. april 2017\nsobota\, 22. april 2017 \nUrnik: srede od 16.30 do 20.30 ( 5 šolskih ur)\nsobota od 14.00 do 18.00 (zaključni nastop) \nŠtevilo udeležencev: do 20\nCena celotnega seminarja je 80 € + 9\,5% DDV \, plačljiva v dveh obrokih\nCena posameznega termina je 20 € + 9\,5% DDV. \nUdeleženci bodo na koncu seminarja prijeli potrdilo o opravljenem strokovnem izobraževanju. V skladu s 16. oz. 19. členom Pravilnika o napredovanju zaposlenih v vzgoji in izobraževanju v nazive se izobraževanje vrednoti z 1\,5 točke. \nInformacije in prijave za delavnice:\nRok za prijave: 22. marec 2017\nNajmanjše število prijav: 6. Največje število prijav: 20.\nKontaktni osebi: tel.: 041 663 904 (Irena Rajh Kunaver) ali 01 24 10 511 (Matjaž Šmalc)\ne-mail: irena@hisaotrok.si\, matjaz.smalc@jskd.si\nPrijavite se lahko preko e-prijavnice na spodnji povezavi: PRIJAVNICA \nPrijavnice sprejemamo do zaključka posameznega prijavnega roka oz. do zapolnitve prostih mest.\nPrijavi obvezno priložite kratek opis vaših dosedanjih gledaliških izkušenj!\nPo prejemu prijavnice vam bomo poslali račun in položnico za 1. del seminarja. Prijava je veljavna šele po plačilu kotizacije! \nSeminar poteka v sodelovanju z Javnim skladom za kulturne dejavnosti.
URL:https://www.kamisibaj.si/dogodek/seminar-kamisibaj-gledalisca/
LOCATION:Hiša otrok in umetnosti\, Komenskega ulica 9\, Ljubljana\, 1000\, Slovenija
ORGANIZER;CN="Hi%C5%A1a otrok in umetnosti":MAILTO:info@hisaotrok.si
END:VEVENT
END:VCALENDAR